BEGIN:VCALENDAR
VERSION:2.0
PRODID:-//wp-events-plugin.com//7.2.3.1//EN
TZID:America/New_York
X-WR-TIMEZONE:America/New_York
BEGIN:VEVENT
UID:1@threeringfocus.com
DTSTART;TZID=America/New_York:20230107T190000
DTEND;TZID=America/New_York:20230107T220000
DTSTAMP:20230103T214840Z
URL:https://threeringfocus.com/events/test-event/
SUMMARY:Test Event
DESCRIPTION:
ATTACH;FMTTYPE=image/jpeg:https://threeringfocus.com/wp-content/uploads/20
 22/12/BLOG-POSTS-1-e1671027608317.png
CATEGORIES:Test
LOCATION:Three Ring Focus\, 1925 Mr. Joe White Ave.\, Myrtle Beach\, SC\, 2
 9577\, United States
X-APPLE-STRUCTURED-LOCATION;VALUE=URI;X-ADDRESS=1925 Mr. Joe White Ave.\, M
 yrtle Beach\, SC\, 29577\, United States;X-APPLE-RADIUS=100;X-TITLE=Three 
 Ring Focus:geo:0,0
END:VEVENT
BEGIN:VTIMEZONE
TZID:America/New_York
X-LIC-LOCATION:America/New_York
BEGIN:STANDARD
DTSTART:20221106T010000
TZOFFSETFROM:-0400
TZOFFSETTO:-0500
TZNAME:EST
END:STANDARD
END:VTIMEZONE
END:VCALENDAR